BEGIN:VCALENDAR
VERSION:2.0
PRODID:-//FSZMWUE - ECPv6.2.8//NONSGML v1.0//EN
CALSCALE:GREGORIAN
METHOD:PUBLISH
X-WR-CALNAME:FSZMWUE
X-ORIGINAL-URL:https://fszmwue.de
X-WR-CALDESC:Veranstaltungen für FSZMWUE
REFRESH-INTERVAL;VALUE=DURATION:PT1H
X-Robots-Tag:noindex
X-PUBLISHED-TTL:PT1H
BEGIN:VTIMEZONE
TZID:Europe/Berlin
BEGIN:DAYLIGHT
TZOFFSETFROM:+0100
TZOFFSETTO:+0200
TZNAME:CEST
DTSTART:20240331T010000
END:DAYLIGHT
BEGIN:STANDARD
TZOFFSETFROM:+0200
TZOFFSETTO:+0100
TZNAME:CET
DTSTART:20241027T010000
END:STANDARD
END:VTIMEZONE
BEGIN:VEVENT
DTSTART;TZID=Europe/Berlin:20241121T190000
DTEND;TZID=Europe/Berlin:20241121T200000
DTSTAMP:20260421T211314
CREATED:20241016T204846Z
LAST-MODIFIED:20241016T204846Z
UID:3363-1732215600-1732219200@fszmwue.de
SUMMARY:Vortragsreihe über Vermögen\, Personalmanagement\, Versicherung und Immobilien
DESCRIPTION:Die Veranstaltung findet in der DÄF statt. \nDie Veranstaltung ist kostenlos für Mitglieder des Medilearn-Clubs\, ansonsten fällt eine Pauschale von 10 Euro an.
URL:https://fszmwue.de/event/vortragsreihe-ueber-vermoegen-personalmanagement-versicherung-und-immobilien/
LOCATION:Deutsche Ärzte Finanz\, Petrinistrasse 49\, Würzburg\, 97080
END:VEVENT
END:VCALENDAR