BEGIN:VCALENDAR
VERSION:2.0
PRODID:-//FSZMWUE - ECPv6.2.8//NONSGML v1.0//EN
CALSCALE:GREGORIAN
METHOD:PUBLISH
X-ORIGINAL-URL:https://fszmwue.de
X-WR-CALDESC:Veranstaltungen für FSZMWUE
REFRESH-INTERVAL;VALUE=DURATION:PT1H
X-Robots-Tag:noindex
X-PUBLISHED-TTL:PT1H
BEGIN:VTIMEZONE
TZID:Europe/Berlin
BEGIN:DAYLIGHT
TZOFFSETFROM:+0100
TZOFFSETTO:+0200
TZNAME:CEST
DTSTART:20240331T010000
END:DAYLIGHT
BEGIN:STANDARD
TZOFFSETFROM:+0200
TZOFFSETTO:+0100
TZNAME:CET
DTSTART:20241027T010000
END:STANDARD
END:VTIMEZONE
BEGIN:VEVENT
DTSTART;TZID=Europe/Berlin:20241126T190000
DTEND;TZID=Europe/Berlin:20241126T233000
DTSTAMP:20260421T193717
CREATED:20241016T202709Z
LAST-MODIFIED:20241110T122438Z
UID:3344-1732647600-1732663800@fszmwue.de
SUMMARY:Weinprobe 🍷
DESCRIPTION:Ticketverkauf durch die Fachschaft. \n30 Euro für Studierende\, 35 Euro für Ärzte (können NUR via Überweisung bezahlt werden) \nDie Weinprobentickets werden dieses Jahr verlost. Anmelden könnt ihr euch wie früher\, indem ihr eine Email mit Name und Semester an tickets.weinprobe@gmail.com am Dienstag den 12.11. zwischen 17:00 und 19:00 Uhr schickt. Wenn ihr ein Ticket zugelost bekommt\, könnt ihr diese beim FS Büro abholen. Falls ihr es nicht schafft euer Ticket abzuholen wird dieses unter einer Warteliste wieder verlost. \nSo funktioniert es:\n1. Schicke eine Email mit NAME und SEMESTER an tickets.weinprobe@gmail.com innerhalb des Zeitraums (Dienstag 12.11 17-19 Uhr)\n2. Du erhälst eine Mail wann und wo du dein Ticket abholen kannst\, falls dir eins zugelost wurde\n3.Die Tickets können NUR via Überweisung bezahlt werden. \n4. Du holst dein Ticket beim FS Büro ab\n5. Wenn du oder Kommilitonen nicht dein Ticket abholen wird dieses innerhalb einer Warteliste wieder verlost \n  \nWir freuen uns auf einen schönen Abend! \nEuer Fachschaftsteam!
URL:https://fszmwue.de/event/weinprobe-%f0%9f%8d%b7/
LOCATION:Residenz\, Residenzplatz 2\, Würzburg\, 97070
ORGANIZER;CN="Fachschaft Zahnmedizin W%C3%BCrzburg":MAILTO:info@fszmwue.de
END:VEVENT
END:VCALENDAR