BEGIN:VCALENDAR
VERSION:2.0
PRODID:-//FSZMWUE - ECPv6.2.8//NONSGML v1.0//EN
CALSCALE:GREGORIAN
METHOD:PUBLISH
X-WR-CALNAME:FSZMWUE
X-ORIGINAL-URL:https://fszmwue.de
X-WR-CALDESC:Veranstaltungen für FSZMWUE
REFRESH-INTERVAL;VALUE=DURATION:PT1H
X-Robots-Tag:noindex
X-PUBLISHED-TTL:PT1H
BEGIN:VTIMEZONE
TZID:Europe/Berlin
BEGIN:DAYLIGHT
TZOFFSETFROM:+0100
TZOFFSETTO:+0200
TZNAME:CEST
DTSTART:20240331T010000
END:DAYLIGHT
BEGIN:STANDARD
TZOFFSETFROM:+0200
TZOFFSETTO:+0100
TZNAME:CET
DTSTART:20241027T010000
END:STANDARD
END:VTIMEZONE
BEGIN:VEVENT
DTSTART;VALUE=DATE:20241129
DTEND;VALUE=DATE:20241202
DTSTAMP:20260421T193228
CREATED:20241016T202946Z
LAST-MODIFIED:20241016T202946Z
UID:3349-1732838400-1733097599@fszmwue.de
SUMMARY:Fachschaftsfahrt 🥳
DESCRIPTION:
URL:https://fszmwue.de/event/fachschaftsfahrt-%f0%9f%a5%b3/
END:VEVENT
END:VCALENDAR