BEGIN:VCALENDAR
VERSION:2.0
PRODID:-//FSZMWUE - ECPv6.2.8//NONSGML v1.0//EN
CALSCALE:GREGORIAN
METHOD:PUBLISH
X-ORIGINAL-URL:https://fszmwue.de
X-WR-CALDESC:Veranstaltungen für FSZMWUE
REFRESH-INTERVAL;VALUE=DURATION:PT1H
X-Robots-Tag:noindex
X-PUBLISHED-TTL:PT1H
BEGIN:VTIMEZONE
TZID:Europe/Berlin
BEGIN:DAYLIGHT
TZOFFSETFROM:+0100
TZOFFSETTO:+0200
TZNAME:CEST
DTSTART:20250330T010000
END:DAYLIGHT
BEGIN:STANDARD
TZOFFSETFROM:+0200
TZOFFSETTO:+0100
TZNAME:CET
DTSTART:20251026T010000
END:STANDARD
END:VTIMEZONE
BEGIN:VEVENT
DTSTART;TZID=Europe/Berlin:20250115T190000
DTEND;TZID=Europe/Berlin:20250115T203000
DTSTAMP:20260421T180423
CREATED:20241202T190720Z
LAST-MODIFIED:20251206T204956Z
UID:3524-1736967600-1736973000@fszmwue.de
SUMMARY:CP GABA Vortrag DHS/ Erosionen und MIH
DESCRIPTION:Liebe Studis\, \nam 15. Januar um 19 Uhr gibt es einen Elmex Vortrag über CP GABA Vortrag DHS/ Erosionen und MIH. \nDer Vortrag findet online statt! \nFür alle Teilnehmer gibt’s noch eine Goodiebag:) \nMeldet euch gerne an! \n 
URL:https://fszmwue.de/event/cp-gaba-vortrag-dhs-erosionen-und-mih/
LOCATION:Zoom
CATEGORIES:Event
END:VEVENT
END:VCALENDAR