BEGIN:VCALENDAR
VERSION:2.0
PRODID:-//FSZMWUE - ECPv6.2.8//NONSGML v1.0//EN
CALSCALE:GREGORIAN
METHOD:PUBLISH
X-WR-CALNAME:FSZMWUE
X-ORIGINAL-URL:https://fszmwue.de
X-WR-CALDESC:Veranstaltungen für FSZMWUE
REFRESH-INTERVAL;VALUE=DURATION:PT1H
X-Robots-Tag:noindex
X-PUBLISHED-TTL:PT1H
BEGIN:VTIMEZONE
TZID:Europe/Berlin
BEGIN:DAYLIGHT
TZOFFSETFROM:+0100
TZOFFSETTO:+0200
TZNAME:CEST
DTSTART:20240331T010000
END:DAYLIGHT
BEGIN:STANDARD
TZOFFSETFROM:+0200
TZOFFSETTO:+0100
TZNAME:CET
DTSTART:20241027T010000
END:STANDARD
END:VTIMEZONE
BEGIN:VEVENT
DTSTART;TZID=Europe/Berlin:20241011T100000
DTEND;TZID=Europe/Berlin:20241011T170000
DTSTAMP:20260421T211130
CREATED:20240922T195106Z
LAST-MODIFIED:20240922T201058Z
UID:3262-1728640800-1728666000@fszmwue.de
SUMMARY:Anmeldung Ersti Tage WS24/25
DESCRIPTION:Liebe Erstis \nBitte meldet euch gerne für die Ersti Tage an! \nWir freuen uns auf euch!
URL:https://fszmwue.de/event/anmeldung-ersti-tage-ws24-25/
CATEGORIES:Event
ORGANIZER;CN="Fachschaft Zahnmedizin W%C3%BCrzburg":MAILTO:info@fszmwue.de
END:VEVENT
BEGIN:VEVENT
DTSTART;TZID=Europe/Berlin:20241016T080000
DTEND;TZID=Europe/Berlin:20241016T170000
DTSTAMP:20260421T211130
CREATED:20241016T204457Z
LAST-MODIFIED:20241016T204457Z
UID:3357-1729065600-1729098000@fszmwue.de
SUMMARY:Vortragsreihe über Vermögen\, Personalmanagment\, Versicherung und Immobilien
DESCRIPTION:Die Veranstaltung findet in der DÄF statt. \nDie Veranstaltung ist kostenlos für Mitglieder des Medilearn-Clubs\, ansonsten fällt eine Pauschale von 10 Euro an.
URL:https://fszmwue.de/event/vortragsreihe-ueber-vermoegen-personalmanagment-versicherung-und-immobilien/
END:VEVENT
BEGIN:VEVENT
DTSTART;TZID=Europe/Berlin:20241017T190000
DTEND;TZID=Europe/Berlin:20241017T203000
DTSTAMP:20260421T211130
CREATED:20241016T200955Z
LAST-MODIFIED:20241016T200955Z
UID:3333-1729191600-1729197000@fszmwue.de
SUMMARY:How to Ersti
DESCRIPTION:
URL:https://fszmwue.de/event/how-to-ersti/
END:VEVENT
BEGIN:VEVENT
DTSTART;TZID=Europe/Berlin:20241018T180000
DTEND;TZID=Europe/Berlin:20241018T200000
DTSTAMP:20260421T211130
CREATED:20240929T160308Z
LAST-MODIFIED:20240929T160308Z
UID:3316-1729274400-1729281600@fszmwue.de
SUMMARY:Bücherflohmarkt
DESCRIPTION:
URL:https://fszmwue.de/event/buecherflohmarkt-2/
LOCATION:Anatomie\, Koellikerstraße 6\, Würzburg\, Bayern\, 97070\, Deutschland
CATEGORIES:Event
ORGANIZER;CN="Fachschaft Zahnmedizin W%C3%BCrzburg":MAILTO:info@fszmwue.de
END:VEVENT
BEGIN:VEVENT
DTSTART;TZID=Europe/Berlin:20241021T171500
DTEND;TZID=Europe/Berlin:20241021T191500
DTSTAMP:20260421T211130
CREATED:20241016T205752Z
LAST-MODIFIED:20241016T210841Z
UID:3365-1729530900-1729538100@fszmwue.de
SUMMARY:Bohrerschulung von Meisinger
DESCRIPTION:Bei der Anmeldung bitte Vorname\, Nachname und Mailadresse (stud.mail) angeben. \nDie Veranstaltung richtete sich an das 1. und 5. Semester.
URL:https://fszmwue.de/event/bohrerschulung-von-meisinger-2/
LOCATION:Deutsche Ärzte Finanz\, Petrinistrasse 49\, Würzburg\, 97080
END:VEVENT
BEGIN:VEVENT
DTSTART;TZID=Europe/Berlin:20241021T191500
DTEND;TZID=Europe/Berlin:20241021T200000
DTSTAMP:20260421T211130
CREATED:20241016T210109Z
LAST-MODIFIED:20241016T210109Z
UID:3369-1729538100-1729540800@fszmwue.de
SUMMARY:Bohrerschulung von Meisinger
DESCRIPTION:Bei der Anmeldung bitte Vorname\, Nachname und Mailadresse (stud.mail) angeben. \nDie Veranstaltung richtet sich an das 1. und 5. Semester.
URL:https://fszmwue.de/event/bohrerschulung-von-meisinger-3/
LOCATION:Deutsche Ärzte Finanz\, Petrinistrasse 49\, Würzburg\, 97080
END:VEVENT
BEGIN:VEVENT
DTSTART;TZID=Europe/Berlin:20241025T150000
DTEND;TZID=Europe/Berlin:20241027T120000
DTSTAMP:20260421T211130
CREATED:20241016T201934Z
LAST-MODIFIED:20241016T201934Z
UID:3338-1729868400-1730030400@fszmwue.de
SUMMARY:BuFaTa in Regensburg
DESCRIPTION:
URL:https://fszmwue.de/event/bufata-in-regensburg/
END:VEVENT
END:VCALENDAR