BEGIN:VCALENDAR
VERSION:2.0
PRODID:-//FSZMWUE - ECPv6.2.8//NONSGML v1.0//EN
CALSCALE:GREGORIAN
METHOD:PUBLISH
X-ORIGINAL-URL:https://fszmwue.de
X-WR-CALDESC:Veranstaltungen für FSZMWUE
REFRESH-INTERVAL;VALUE=DURATION:PT1H
X-Robots-Tag:noindex
X-PUBLISHED-TTL:PT1H
BEGIN:VTIMEZONE
TZID:Europe/Berlin
BEGIN:DAYLIGHT
TZOFFSETFROM:+0100
TZOFFSETTO:+0200
TZNAME:CEST
DTSTART:20240331T010000
END:DAYLIGHT
BEGIN:STANDARD
TZOFFSETFROM:+0200
TZOFFSETTO:+0100
TZNAME:CET
DTSTART:20241027T010000
END:STANDARD
END:VTIMEZONE
BEGIN:VEVENT
DTSTART;TZID=Europe/Berlin:20241107T150000
DTEND;TZID=Europe/Berlin:20241107T170000
DTSTAMP:20260421T211710
CREATED:20241016T202054Z
LAST-MODIFIED:20241103T102241Z
UID:3340-1730991600-1730998800@fszmwue.de
SUMMARY:Vorstellung der Lercher Lupenbrillen
DESCRIPTION:
URL:https://fszmwue.de/event/vorstellung-der-lercher-lupenbrillen/
LOCATION:Deutsche Ärzte Finanz\, Petrinistrasse 49\, Würzburg\, 97080
CATEGORIES:Event
END:VEVENT
BEGIN:VEVENT
DTSTART;TZID=Europe/Berlin:20241114T190000
DTEND;TZID=Europe/Berlin:20241114T200000
DTSTAMP:20260421T211710
CREATED:20241016T204710Z
LAST-MODIFIED:20241103T154154Z
UID:3360-1731610800-1731614400@fszmwue.de
SUMMARY:Vortagsreihe über Vermögen\, Personalmanagement\, Versicherung und Immobilien
DESCRIPTION:Die Veranstaltung findet in der DÄF statt. \nDie Veranstaltung ist kostenlos für Mitglieder des Medilearn-Clubs\, ansonsten fällt eine Pauschale von 10 Euro an. \nVORSICHT! \nMit der Anmeldung meldet man sich automatisch für die GESAMTE Vortragsreihe an! \nWir freuen uns\, \nDas Fachschaftsteam!
URL:https://fszmwue.de/event/vortagsreihe-ueber-vermoegen-personalmanagement-versicherung-und-immobilien/
CATEGORIES:Event
END:VEVENT
BEGIN:VEVENT
DTSTART;TZID=Europe/Berlin:20241121T190000
DTEND;TZID=Europe/Berlin:20241121T200000
DTSTAMP:20260421T211710
CREATED:20241016T204846Z
LAST-MODIFIED:20241016T204846Z
UID:3363-1732215600-1732219200@fszmwue.de
SUMMARY:Vortragsreihe über Vermögen\, Personalmanagement\, Versicherung und Immobilien
DESCRIPTION:Die Veranstaltung findet in der DÄF statt. \nDie Veranstaltung ist kostenlos für Mitglieder des Medilearn-Clubs\, ansonsten fällt eine Pauschale von 10 Euro an.
URL:https://fszmwue.de/event/vortragsreihe-ueber-vermoegen-personalmanagement-versicherung-und-immobilien/
LOCATION:Deutsche Ärzte Finanz\, Petrinistrasse 49\, Würzburg\, 97080
END:VEVENT
BEGIN:VEVENT
DTSTART;TZID=Europe/Berlin:20241126T190000
DTEND;TZID=Europe/Berlin:20241126T233000
DTSTAMP:20260421T211710
CREATED:20241016T202709Z
LAST-MODIFIED:20241110T122438Z
UID:3344-1732647600-1732663800@fszmwue.de
SUMMARY:Weinprobe 🍷
DESCRIPTION:Ticketverkauf durch die Fachschaft. \n30 Euro für Studierende\, 35 Euro für Ärzte (können NUR via Überweisung bezahlt werden) \nDie Weinprobentickets werden dieses Jahr verlost. Anmelden könnt ihr euch wie früher\, indem ihr eine Email mit Name und Semester an tickets.weinprobe@gmail.com am Dienstag den 12.11. zwischen 17:00 und 19:00 Uhr schickt. Wenn ihr ein Ticket zugelost bekommt\, könnt ihr diese beim FS Büro abholen. Falls ihr es nicht schafft euer Ticket abzuholen wird dieses unter einer Warteliste wieder verlost. \nSo funktioniert es:\n1. Schicke eine Email mit NAME und SEMESTER an tickets.weinprobe@gmail.com innerhalb des Zeitraums (Dienstag 12.11 17-19 Uhr)\n2. Du erhälst eine Mail wann und wo du dein Ticket abholen kannst\, falls dir eins zugelost wurde\n3.Die Tickets können NUR via Überweisung bezahlt werden. \n4. Du holst dein Ticket beim FS Büro ab\n5. Wenn du oder Kommilitonen nicht dein Ticket abholen wird dieses innerhalb einer Warteliste wieder verlost \n  \nWir freuen uns auf einen schönen Abend! \nEuer Fachschaftsteam!
URL:https://fszmwue.de/event/weinprobe-%f0%9f%8d%b7/
LOCATION:Residenz\, Residenzplatz 2\, Würzburg\, 97070
ORGANIZER;CN="Fachschaft Zahnmedizin W%C3%BCrzburg":MAILTO:info@fszmwue.de
END:VEVENT
BEGIN:VEVENT
DTSTART;TZID=Europe/Berlin:20241128T150000
DTEND;TZID=Europe/Berlin:20241128T170000
DTSTAMP:20260421T211710
CREATED:20241016T202827Z
LAST-MODIFIED:20241103T102407Z
UID:3347-1732806000-1732813200@fszmwue.de
SUMMARY:Vorstellung der Sigmadental Lupenbrillen
DESCRIPTION:
URL:https://fszmwue.de/event/vorstellung-der-sigmadental-lupenbrillen/
LOCATION:Deutsche Ärzte Finanz\, Petrinistrasse 49\, Würzburg\, 97080
CATEGORIES:Event
END:VEVENT
BEGIN:VEVENT
DTSTART;TZID=Europe/Berlin:20241128T190000
DTEND;TZID=Europe/Berlin:20241128T200000
DTSTAMP:20260421T211710
CREATED:20241106T200648Z
LAST-MODIFIED:20241106T200648Z
UID:3482-1732820400-1732824000@fszmwue.de
SUMMARY:Vortragsreihe über Vermögen\, Personalmanagement\, Versicherung und Immobilien
DESCRIPTION:Die Veranstaltung findet in der DÄF statt. \nDie Veranstaltung ist kostenlos für Mietglieder des Medilearn- Clubs\, ansonsten fällt eine Pauschale von 10€ an.
URL:https://fszmwue.de/event/vortragsreihe-ueber-vermoegen-personalmanagement-versicherung-und-immobilien-2/
LOCATION:Deutsche Ärzte Finanz\, Petrinistrasse 49\, Würzburg\, 97080
END:VEVENT
BEGIN:VEVENT
DTSTART;VALUE=DATE:20241129
DTEND;VALUE=DATE:20241202
DTSTAMP:20260421T211710
CREATED:20241016T202946Z
LAST-MODIFIED:20241016T202946Z
UID:3349-1732838400-1733097599@fszmwue.de
SUMMARY:Fachschaftsfahrt 🥳
DESCRIPTION:
URL:https://fszmwue.de/event/fachschaftsfahrt-%f0%9f%a5%b3/
END:VEVENT
END:VCALENDAR