BEGIN:VCALENDAR
VERSION:2.0
PRODID:-//FSZMWUE - ECPv6.2.8//NONSGML v1.0//EN
CALSCALE:GREGORIAN
METHOD:PUBLISH
X-WR-CALNAME:FSZMWUE
X-ORIGINAL-URL:https://fszmwue.de
X-WR-CALDESC:Veranstaltungen für FSZMWUE
REFRESH-INTERVAL;VALUE=DURATION:PT1H
X-Robots-Tag:noindex
X-PUBLISHED-TTL:PT1H
BEGIN:VTIMEZONE
TZID:Europe/Berlin
BEGIN:DAYLIGHT
TZOFFSETFROM:+0100
TZOFFSETTO:+0200
TZNAME:CEST
DTSTART:20240331T010000
END:DAYLIGHT
BEGIN:STANDARD
TZOFFSETFROM:+0200
TZOFFSETTO:+0100
TZNAME:CET
DTSTART:20241027T010000
END:STANDARD
END:VTIMEZONE
BEGIN:VEVENT
DTSTART;VALUE=DATE:20241129
DTEND;VALUE=DATE:20241202
DTSTAMP:20260421T180043
CREATED:20241016T202946Z
LAST-MODIFIED:20241016T202946Z
UID:3349-1732838400-1733097599@fszmwue.de
SUMMARY:Fachschaftsfahrt 🥳
DESCRIPTION:
URL:https://fszmwue.de/event/fachschaftsfahrt-%f0%9f%a5%b3/
END:VEVENT
BEGIN:VEVENT
DTSTART;TZID=Europe/Berlin:20241205T150000
DTEND;TZID=Europe/Berlin:20241205T170000
DTSTAMP:20260421T180043
CREATED:20241016T203045Z
LAST-MODIFIED:20241103T101917Z
UID:3351-1733410800-1733418000@fszmwue.de
SUMMARY:Vorstellung der Bajohr Lupenbrillen
DESCRIPTION:
URL:https://fszmwue.de/event/vorstellung-der-bajohr-lupenbrillen/
LOCATION:Deutsche Ärzte Finanz\, Petrinistrasse 49\, Würzburg\, 97080
CATEGORIES:Event
END:VEVENT
BEGIN:VEVENT
DTSTART;TZID=Europe/Berlin:20241212T150000
DTEND;TZID=Europe/Berlin:20241212T170000
DTSTAMP:20260421T180043
CREATED:20241016T202203Z
LAST-MODIFIED:20241103T102621Z
UID:3342-1734015600-1734022800@fszmwue.de
SUMMARY:Vorstellung der Starmed Lupenbrillen
DESCRIPTION:
URL:https://fszmwue.de/event/vorstellung-der-starmed-lupenbrillen/
LOCATION:Deutsche Ärzte Finanz\, Petrinistrasse 49\, Würzburg\, 97080
CATEGORIES:Event
END:VEVENT
BEGIN:VEVENT
DTSTART;TZID=Europe/Berlin:20241213T180000
DTEND;TZID=Europe/Berlin:20241213T233000
DTSTAMP:20260421T180043
CREATED:20241016T204141Z
LAST-MODIFIED:20241016T204141Z
UID:3355-1734112800-1734132600@fszmwue.de
SUMMARY:Glühnik 🎅
DESCRIPTION:
URL:https://fszmwue.de/event/gluehnik-%f0%9f%8e%85/
END:VEVENT
BEGIN:VEVENT
DTSTART;TZID=Europe/Berlin:20241218T190000
DTEND;TZID=Europe/Berlin:20241218T230000
DTSTAMP:20260421T180043
CREATED:20241016T203804Z
LAST-MODIFIED:20241211T162245Z
UID:3353-1734548400-1734562800@fszmwue.de
SUMMARY:Filmabend 🍿🎥
DESCRIPTION:Gespielt wird der kleine Lord. Es gibt Glühweinausschank und Waffeln. \nWo? Terrasse und kleiner Hörsaal\, Zahnklinik \nFilmstart: 19 Uhr
URL:https://fszmwue.de/event/filmabend-%f0%9f%8d%bf/
ORGANIZER;CN="Fachschaft Zahnmedizin W%C3%BCrzburg":MAILTO:info@fszmwue.de
END:VEVENT
END:VCALENDAR